BEGIN:VCALENDAR
VERSION:2.0
PRODID:-//Plone.org//NONSGML plone.app.event//EN
X-WR-TIMEZONE:Europe/Rome
BEGIN:VEVENT
SUMMARY:Navigating Digital Transformation? The guiding role and socializat
 ion processes of change agents. Seminario del Mercoledì 16 Aprile 2025
DTSTART;TZID=Europe/Rome;VALUE=DATE-TIME:20250416T130000
DTEND;TZID=Europe/Rome;VALUE=DATE-TIME:20250416T140000
DTSTAMP;VALUE=DATE-TIME:20260421T064731Z
UID:5a0722e7c4464d9398171d12d5c64f4f@scienzeaziendali.unibo.it
CREATED;VALUE=DATE-TIME:20250410T152324Z
DESCRIPTION:Caroline Fischer - Dottoressa Ricercatrice all'Università di 
 Twente (Olanda - Paesi Bassi). Il seminario è riservato al personale del 
 Dipartimento di Scienze Aziendali.
LAST-MODIFIED;VALUE=DATE-TIME:20250410T154539Z
URL:https://scienzeaziendali.unibo.it/it/eventi/navigating-digital-transfo
 rmation-the-guiding-role-and-socialization-processes-of-change-agents-semi
 nario-del-mercoledi-16-aprile-2025
END:VEVENT
BEGIN:VTIMEZONE
TZID:Europe/Rome
X-LIC-LOCATION:Europe/Rome
BEGIN:DAYLIGHT
DTSTART;VALUE=DATE-TIME:20250330T030000
TZNAME:CEST
TZOFFSETFROM:+0100
TZOFFSETTO:+0200
END:DAYLIGHT
END:VTIMEZONE
END:VCALENDAR
