BEGIN:VCALENDAR
VERSION:2.0
PRODID:-//Plone.org//NONSGML plone.app.event//EN
X-WR-TIMEZONE:Europe/Rome
BEGIN:VEVENT
SUMMARY:Nimble Banks. Seminario del Martedì 18 Novembre 2025
DTSTART;TZID=Europe/Rome;VALUE=DATE-TIME:20251118T114500
DTEND;TZID=Europe/Rome;VALUE=DATE-TIME:20251118T131500
DTSTAMP;VALUE=DATE-TIME:20260421T003308Z
UID:4ebe5bca3e804f4fbea945eac0a2771b@scienzeaziendali.unibo.it
CREATED;VALUE=DATE-TIME:20251030T144948Z
DESCRIPTION:Wolf Wagner - Professore alla Rotterdam School of Management\,
  Erasmus University (Paesi Bassi). Il seminario è riservato al personale 
 del Dipartimento di Scienze Aziendali.
LAST-MODIFIED;VALUE=DATE-TIME:20251118T083320Z
URL:https://scienzeaziendali.unibo.it/it/eventi/nimble-banks-seminario-del
 -martedi-18-novembre-2025
END:VEVENT
BEGIN:VTIMEZONE
TZID:Europe/Rome
X-LIC-LOCATION:Europe/Rome
BEGIN:STANDARD
DTSTART;VALUE=DATE-TIME:20251026T020000
TZNAME:CET
TZOFFSETFROM:+0200
TZOFFSETTO:+0100
END:STANDARD
END:VTIMEZONE
END:VCALENDAR
