BEGIN:VCALENDAR
VERSION:2.0
PRODID:-//Plone.org//NONSGML plone.app.event//EN
X-WR-TIMEZONE:Europe/Rome
BEGIN:VEVENT
SUMMARY:NUOVI MODELLI DI BUSINESS SOSTENIBILI E MODALITA’ DI MISURAZIONE
  DELL’ ECONOMIA CIRCOLARE: IL PUNTO DI VISTA ECONOMICO AZIENDALE
DTSTART;TZID=Europe/Rome;VALUE=DATE-TIME:20250527T091500
DTEND;TZID=Europe/Rome;VALUE=DATE-TIME:20250527T170000
DTSTAMP;VALUE=DATE-TIME:20260421T064729Z
UID:83ae18950f43410799c557dbe0307da6@scienzeaziendali.unibo.it
CREATED;VALUE=DATE-TIME:20250313T093120Z
LAST-MODIFIED;VALUE=DATE-TIME:20250506T112551Z
URL:https://scienzeaziendali.unibo.it/it/eventi/nuovi-modelli-di-business-
 sostenibili-e-modalita2019-di-misurazione-dell2019-economia-circolare-il-p
 unto-di-vista-economico-aziendale
END:VEVENT
BEGIN:VTIMEZONE
TZID:Europe/Rome
X-LIC-LOCATION:Europe/Rome
BEGIN:DAYLIGHT
DTSTART;VALUE=DATE-TIME:20250330T030000
TZNAME:CEST
TZOFFSETFROM:+0100
TZOFFSETTO:+0200
END:DAYLIGHT
END:VTIMEZONE
END:VCALENDAR
