BEGIN:VCALENDAR
VERSION:2.0
PRODID:-//Plone.org//NONSGML plone.app.event//EN
X-WR-TIMEZONE:Europe/Rome
BEGIN:VEVENT
SUMMARY:“Nutriamo bene i nostri bambini e il loro microbiota!”
DTSTART;TZID=Europe/Rome;VALUE=DATE-TIME:20251103T170000
DTEND;TZID=Europe/Rome;VALUE=DATE-TIME:20251103T183000
DTSTAMP;VALUE=DATE-TIME:20260421T020736Z
UID:eb7db01877f44f40ba2b4fb3493ff07e@scienzeaziendali.unibo.it
CREATED;VALUE=DATE-TIME:20251027T132408Z
DESCRIPTION:Evento formativo per Genitori e Docenti
LAST-MODIFIED;VALUE=DATE-TIME:20251029T092633Z
URL:https://scienzeaziendali.unibo.it/it/eventi/nutriamo-bene-i-nostri-bam
 bini-e-il-loro-microbiota
END:VEVENT
BEGIN:VTIMEZONE
TZID:Europe/Rome
X-LIC-LOCATION:Europe/Rome
BEGIN:STANDARD
DTSTART;VALUE=DATE-TIME:20251026T020000
TZNAME:CET
TZOFFSETFROM:+0200
TZOFFSETTO:+0100
END:STANDARD
END:VTIMEZONE
END:VCALENDAR
