BEGIN:VCALENDAR
VERSION:2.0
PRODID:-//Plone.org//NONSGML plone.app.event//EN
X-WR-TIMEZONE:Europe/Rome
BEGIN:VEVENT
SUMMARY:Oper.lab - Osservatorio per l'open innovation nell'ecosistema dell
 'innovazione della Regione Emilia Romagna
DTSTART;TZID=Europe/Rome;VALUE=DATE-TIME:20221018T110000
DTEND;TZID=Europe/Rome;VALUE=DATE-TIME:20221018T140000
DTSTAMP;VALUE=DATE-TIME:20260419T152850Z
UID:0a3164ace6c249b1bc560e5b1059e32b@scienzeaziendali.unibo.it
CREATED;VALUE=DATE-TIME:20220908T112657Z
DESCRIPTION:Un momento di networking e l’occasione per conoscere e discu
 tere l'Osservatorio e le sperimentazioni dell'ultimo anno\, in un confront
 o diretto tra i principali attori dell’ecosistema
LAST-MODIFIED;VALUE=DATE-TIME:20221021T133710Z
URL:https://scienzeaziendali.unibo.it/it/eventi/oper-lab-osservatorio-per-
 l-open-innovation-nell-ecosistema-dell-innovazione-della-regione-emilia-ro
 magna
END:VEVENT
BEGIN:VTIMEZONE
TZID:Europe/Rome
X-LIC-LOCATION:Europe/Rome
BEGIN:DAYLIGHT
DTSTART;VALUE=DATE-TIME:20220327T030000
TZNAME:CEST
TZOFFSETFROM:+0100
TZOFFSETTO:+0200
END:DAYLIGHT
END:VTIMEZONE
END:VCALENDAR
