BEGIN:VCALENDAR
VERSION:2.0
PRODID:-//Plone.org//NONSGML plone.app.event//EN
X-WR-TIMEZONE:Europe/Rome
BEGIN:VEVENT
SUMMARY:Prof. Santi Furnari (Cass Business School\, UK) Seminario su QCA -
  Venerdì 4 Marzo 2022
DTSTART;TZID=Europe/Rome;VALUE=DATE-TIME:20220304T140000
DTEND;TZID=Europe/Rome;VALUE=DATE-TIME:20220304T170000
DTSTAMP;VALUE=DATE-TIME:20260423T033403Z
UID:e84eaa28083444be93aef5cbb87f0842@scienzeaziendali.unibo.it
CREATED;VALUE=DATE-TIME:20211014T135020Z
DESCRIPTION:Seminario di Formazione "Azzurro"
LAST-MODIFIED;VALUE=DATE-TIME:20211014T144310Z
URL:https://scienzeaziendali.unibo.it/it/eventi/prof-santi-furnari-seminar
 io-su-qca-venerdi-4-marzo-2022
END:VEVENT
BEGIN:VTIMEZONE
TZID:Europe/Rome
X-LIC-LOCATION:Europe/Rome
BEGIN:STANDARD
DTSTART;VALUE=DATE-TIME:20211031T020000
TZNAME:CET
TZOFFSETFROM:+0200
TZOFFSETTO:+0100
END:STANDARD
END:VTIMEZONE
END:VCALENDAR
