BEGIN:VCALENDAR
VERSION:2.0
PRODID:-//Plone.org//NONSGML plone.app.event//EN
X-WR-TIMEZONE:Europe/Rome
BEGIN:VEVENT
SUMMARY:Rested Alertness: Sleep\, Fatigue\, and Entrepreneurial Opportunit
 y Recognition. Seminario del Martedì 9 Dicembre 2025
DTSTART;TZID=Europe/Rome;VALUE=DATE-TIME:20251209T120000
DTEND;TZID=Europe/Rome;VALUE=DATE-TIME:20251209T130000
DTSTAMP;VALUE=DATE-TIME:20260421T003314Z
UID:d4bcc26b148746859fb192d9b1d01367@scienzeaziendali.unibo.it
CREATED;VALUE=DATE-TIME:20251202T110352Z
DESCRIPTION:Sebastiano Massaro - Professore alla Surrey Business School (G
 uildford - Regno Unito). Il seminario è riservato al personale del Dipart
 imento di Scienze Aziendali.
LAST-MODIFIED;VALUE=DATE-TIME:20251202T153430Z
URL:https://scienzeaziendali.unibo.it/it/eventi/rested-alertness-sleep-fat
 igue-and-entrepreneurial-opportunity-recognition-seminario-del-martedi-9-d
 icembre-2025-1
END:VEVENT
BEGIN:VTIMEZONE
TZID:Europe/Rome
X-LIC-LOCATION:Europe/Rome
BEGIN:STANDARD
DTSTART;VALUE=DATE-TIME:20251026T020000
TZNAME:CET
TZOFFSETFROM:+0200
TZOFFSETTO:+0100
END:STANDARD
END:VTIMEZONE
END:VCALENDAR
