BEGIN:VCALENDAR
VERSION:2.0
PRODID:-//Plone.org//NONSGML plone.app.event//EN
X-WR-TIMEZONE:Europe/Rome
BEGIN:VEVENT
SUMMARY:Strategically Small Firms and the Real Effects of Public Grants in
  a Crisis. Seminario del Martedì 3 Dicembre 2024
DTSTART;TZID=Europe/Rome;VALUE=DATE-TIME:20241203T130000
DTEND;TZID=Europe/Rome;VALUE=DATE-TIME:20241203T140000
DTSTAMP;VALUE=DATE-TIME:20260421T064730Z
UID:e1fafb4ae37544ceb3db368d22216593@scienzeaziendali.unibo.it
CREATED;VALUE=DATE-TIME:20241017T144936Z
DESCRIPTION:Mircea Epure - Professore all'Università Pompeu Fabra (Barcel
 lona - Spagna). Il seminario è riservato al personale del Dipartimento di
  Scienze Aziendali.
LAST-MODIFIED;VALUE=DATE-TIME:20241018T105802Z
URL:https://scienzeaziendali.unibo.it/it/eventi/strategically-small-firms-
 and-the-real-effects-of-public-grants-in-a-crisis-seminario-del-martedi-3-
 dicembre-2024
END:VEVENT
BEGIN:VTIMEZONE
TZID:Europe/Rome
X-LIC-LOCATION:Europe/Rome
BEGIN:STANDARD
DTSTART;VALUE=DATE-TIME:20241027T020000
TZNAME:CET
TZOFFSETFROM:+0200
TZOFFSETTO:+0100
END:STANDARD
END:VTIMEZONE
END:VCALENDAR
