BEGIN:VCALENDAR
VERSION:2.0
PRODID:-//Plone.org//NONSGML plone.app.event//EN
X-WR-TIMEZONE:Europe/Rome
BEGIN:VEVENT
SUMMARY:The Dissemination of Short-sellers' Information. Seminario del Mar
 tedì 25 Novembre 2025
DTSTART;TZID=Europe/Rome;VALUE=DATE-TIME:20251125T140000
DTEND;TZID=Europe/Rome;VALUE=DATE-TIME:20251125T150000
DTSTAMP;VALUE=DATE-TIME:20260420T202718Z
UID:36bcba50715740a59f0c5df2d3581603@scienzeaziendali.unibo.it
CREATED;VALUE=DATE-TIME:20251120T104223Z
DESCRIPTION:Paolo Colla\, Professore di Banche e Finanza all'Università B
 occoni di Milano. Il seminario è riservato al personale del Dipartimento 
 di Scienze Aziendali.
LAST-MODIFIED;VALUE=DATE-TIME:20251120T110449Z
URL:https://scienzeaziendali.unibo.it/it/eventi/the-dissemination-of-short
 -sellers-information-seminario-del-martedi-25-novembre-2025
END:VEVENT
BEGIN:VTIMEZONE
TZID:Europe/Rome
X-LIC-LOCATION:Europe/Rome
BEGIN:STANDARD
DTSTART;VALUE=DATE-TIME:20251026T020000
TZNAME:CET
TZOFFSETFROM:+0200
TZOFFSETTO:+0100
END:STANDARD
END:VTIMEZONE
END:VCALENDAR
