BEGIN:VCALENDAR
VERSION:2.0
PRODID:-//Plone.org//NONSGML plone.app.event//EN
X-WR-TIMEZONE:Europe/Rome
BEGIN:VEVENT
SUMMARY:The Link Between Blockchain Technology and Management Control in I
 nter-Organisational Relationships: A Network Perspective. Seminario del Ma
 rtedì 25 Novembre 2025
DTSTART;TZID=Europe/Rome;VALUE=DATE-TIME:20251125T120000
DTEND;TZID=Europe/Rome;VALUE=DATE-TIME:20251125T123000
DTSTAMP;VALUE=DATE-TIME:20260421T003314Z
UID:b1c74328239a42c282223a782c2d2db6@scienzeaziendali.unibo.it
CREATED;VALUE=DATE-TIME:20251030T095155Z
DESCRIPTION:Angelo Ditillo - Professore all'Università Bocconi di Milano.
  Il seminario è riservato al personale del Dipartimento di Scienze Aziend
 ali.
LAST-MODIFIED;VALUE=DATE-TIME:20251030T104920Z
URL:https://scienzeaziendali.unibo.it/it/eventi/the-link-between-blockchai
 n-technology-and-management-control-in-inter-organisational-relationships-
 a-network-perspective-seminario-del-martedi-25-novembre-2025
END:VEVENT
BEGIN:VTIMEZONE
TZID:Europe/Rome
X-LIC-LOCATION:Europe/Rome
BEGIN:STANDARD
DTSTART;VALUE=DATE-TIME:20251026T020000
TZNAME:CET
TZOFFSETFROM:+0200
TZOFFSETTO:+0100
END:STANDARD
END:VTIMEZONE
END:VCALENDAR
