BEGIN:VCALENDAR
VERSION:2.0
PRODID:-//Plone.org//NONSGML plone.app.event//EN
X-WR-TIMEZONE:Europe/Rome
BEGIN:VEVENT
SUMMARY:Theorization and Contestation: How Peripheral Actors Accomplish Ch
 ange in Mature Fields. Seminario del Martedì 5 Marzo 2024
DTSTART;TZID=Europe/Rome;VALUE=DATE-TIME:20240305T130000
DTEND;TZID=Europe/Rome;VALUE=DATE-TIME:20240305T140000
DTSTAMP;VALUE=DATE-TIME:20260421T083944Z
UID:a6907e67ad38407da11061e9ad7c2276@scienzeaziendali.unibo.it
CREATED;VALUE=DATE-TIME:20240223T114433Z
DESCRIPTION:Andrey Pavlov - Professore all'Università di Cranfield (Inghi
 lterra). Il seminario è riservato al personale del Dipartimento di Scienz
 e Aziendali.
LAST-MODIFIED;VALUE=DATE-TIME:20240226T081031Z
URL:https://scienzeaziendali.unibo.it/it/eventi/theorization-and-contestat
 ion-how-peripheral-actors-accomplish-change-in-mature-fields-seminario-del
 -martedi-5-marzo-2024
END:VEVENT
BEGIN:VTIMEZONE
TZID:Europe/Rome
X-LIC-LOCATION:Europe/Rome
BEGIN:STANDARD
DTSTART;VALUE=DATE-TIME:20231029T020000
TZNAME:CET
TZOFFSETFROM:+0200
TZOFFSETTO:+0100
END:STANDARD
END:VTIMEZONE
END:VCALENDAR
