BEGIN:VCALENDAR
VERSION:2.0
PRODID:-//Plone.org//NONSGML plone.app.event//EN
X-WR-TIMEZONE:Europe/Rome
BEGIN:VEVENT
SUMMARY:Too much of a good thing? The limits of individual autonomy to fo
 ster new venture team’s innovativeness. Seminario del Mercoledì 24 Sett
 embre 2025
DTSTART;TZID=Europe/Rome;VALUE=DATE-TIME:20250924T130000
DTEND;TZID=Europe/Rome;VALUE=DATE-TIME:20250924T140000
DTSTAMP;VALUE=DATE-TIME:20260421T020941Z
UID:206b5f2d6128489c8d58b4b073d2e19f@scienzeaziendali.unibo.it
CREATED;VALUE=DATE-TIME:20250903T100512Z
DESCRIPTION:Denis Grégoire - Professore alla High Commercial Studies of M
 ontreal (HEC Montréal) Canada. Il seminario è dedicato ai membri del Dip
 artimento di Scienze Aziendali.
LAST-MODIFIED;VALUE=DATE-TIME:20250905T075602Z
URL:https://scienzeaziendali.unibo.it/it/eventi/too-much-of-a-good-thing-t
 he-limits-of-individual-autonomy-to-foster-new-venture-team-s-innovativene
 ss-seminario-del-mercoledi-24-settembre-2025
END:VEVENT
BEGIN:VTIMEZONE
TZID:Europe/Rome
X-LIC-LOCATION:Europe/Rome
BEGIN:DAYLIGHT
DTSTART;VALUE=DATE-TIME:20250330T030000
TZNAME:CEST
TZOFFSETFROM:+0100
TZOFFSETTO:+0200
END:DAYLIGHT
END:VTIMEZONE
END:VCALENDAR
