BEGIN:VCALENDAR
VERSION:2.0
PRODID:-//Plone.org//NONSGML plone.app.event//EN
X-WR-TIMEZONE:Europe/Rome
BEGIN:VEVENT
SUMMARY:Top 500 Bologna
DTSTART;TZID=Europe/Rome;VALUE=DATE-TIME:20251204T153000
DTEND;TZID=Europe/Rome;VALUE=DATE-TIME:20251204T190000
DTSTAMP;VALUE=DATE-TIME:20260420T223910Z
UID:b2c08410638c4216b55228ad18416ba3@scienzeaziendali.unibo.it
CREATED;VALUE=DATE-TIME:20251110T102213Z
DESCRIPTION:15a EDIZIONE
LAST-MODIFIED;VALUE=DATE-TIME:20251110T105153Z
URL:https://scienzeaziendali.unibo.it/it/eventi/top-500-bologna
END:VEVENT
BEGIN:VTIMEZONE
TZID:Europe/Rome
X-LIC-LOCATION:Europe/Rome
BEGIN:STANDARD
DTSTART;VALUE=DATE-TIME:20251026T020000
TZNAME:CET
TZOFFSETFROM:+0200
TZOFFSETTO:+0100
END:STANDARD
END:VTIMEZONE
END:VCALENDAR
