BEGIN:VCALENDAR
VERSION:2.0
PRODID:-//Plone.org//NONSGML plone.app.event//EN
X-WR-TIMEZONE:Europe/Rome
BEGIN:VEVENT
SUMMARY:Venezia tra Storia Sviluppo e Sostenibilità
DTSTART;TZID=Europe/Rome;VALUE=DATE-TIME:20251120T170000
DTEND;TZID=Europe/Rome;VALUE=DATE-TIME:20251120T190000
DTSTAMP;VALUE=DATE-TIME:20260420T224146Z
UID:4fc5449929644654a400a589f90b2462@scienzeaziendali.unibo.it
CREATED;VALUE=DATE-TIME:20251104T143927Z
DESCRIPTION:Presentazione del libro
LAST-MODIFIED;VALUE=DATE-TIME:20251114T092320Z
URL:https://scienzeaziendali.unibo.it/it/eventi/venezia-tra-storia-svilupp
 o-e-sostenibilita
END:VEVENT
BEGIN:VTIMEZONE
TZID:Europe/Rome
X-LIC-LOCATION:Europe/Rome
BEGIN:STANDARD
DTSTART;VALUE=DATE-TIME:20251026T020000
TZNAME:CET
TZOFFSETFROM:+0200
TZOFFSETTO:+0100
END:STANDARD
END:VTIMEZONE
END:VCALENDAR
