BEGIN:VCALENDAR
VERSION:2.0
PRODID:-//Plone.org//NONSGML plone.app.event//EN
X-WR-TIMEZONE:Europe/Rome
BEGIN:VEVENT
SUMMARY:Voter Coalitions and Governance in Decentralized Finance: initial 
 evidence from MakerDAO\; seminario del Mercoledì 27 Marzo 2024
DTSTART;TZID=Europe/Rome;VALUE=DATE-TIME:20240327T130000
DTEND;TZID=Europe/Rome;VALUE=DATE-TIME:20240327T140000
DTSTAMP;VALUE=DATE-TIME:20260421T083944Z
UID:2f68673b61424226a4f5c64622afe849@scienzeaziendali.unibo.it
CREATED;VALUE=DATE-TIME:20240313T101255Z
DESCRIPTION:Michele Fabi - Ricercatore alla Ecole Polytechnique (CREST\, I
 P Parigi). Il seminario è riservato al personale del Dipartimento di Scie
 nze Aziendali.
LAST-MODIFIED;VALUE=DATE-TIME:20240313T102551Z
URL:https://scienzeaziendali.unibo.it/it/eventi/voter-coalitions-and-gover
 nance-in-decentralized-finance-initial-evidence-from-makerdao-seminario-de
 l-mercoledi-27-marzo-2024
END:VEVENT
BEGIN:VTIMEZONE
TZID:Europe/Rome
X-LIC-LOCATION:Europe/Rome
BEGIN:STANDARD
DTSTART;VALUE=DATE-TIME:20231029T020000
TZNAME:CET
TZOFFSETFROM:+0200
TZOFFSETTO:+0100
END:STANDARD
END:VTIMEZONE
END:VCALENDAR
