BEGIN:VCALENDAR
VERSION:2.0
PRODID:-//Plone.org//NONSGML plone.app.event//EN
X-WR-TIMEZONE:Europe/Rome
BEGIN:VEVENT
SUMMARY:When the Pieces Move: Do Financial Analysts Pick Up On Segment Rep
 orting Reshuffling?". Seminario del Martedì 7 Ottobre 2025
DTSTART;TZID=Europe/Rome;VALUE=DATE-TIME:20251007T120000
DTEND;TZID=Europe/Rome;VALUE=DATE-TIME:20251007T130000
DTSTAMP;VALUE=DATE-TIME:20260421T020904Z
UID:531d3428be5349eabd5339d1d4449333@scienzeaziendali.unibo.it
CREATED;VALUE=DATE-TIME:20251007T065949Z
DESCRIPTION:Andrei Filip - Professore alla IESEG (School of Management) Un
 iversità di Grenoble (Francia). Il seminario è riservato al personale de
 l Dipartimento di Scienze Aziendali.
LAST-MODIFIED;VALUE=DATE-TIME:20251007T072412Z
URL:https://scienzeaziendali.unibo.it/it/eventi/when-the-pieces-move-do-fi
 nancial-analysts-pick-up-on-segment-reporting-reshuffling-seminario-del-ma
 rtedi-7-ottobre-2025
END:VEVENT
BEGIN:VTIMEZONE
TZID:Europe/Rome
X-LIC-LOCATION:Europe/Rome
BEGIN:DAYLIGHT
DTSTART;VALUE=DATE-TIME:20250330T030000
TZNAME:CEST
TZOFFSETFROM:+0100
TZOFFSETTO:+0200
END:DAYLIGHT
END:VTIMEZONE
END:VCALENDAR
