BEGIN:VCALENDAR
VERSION:2.0
PRODID:-//Plone.org//NONSGML plone.app.event//EN
X-WR-TIMEZONE:Europe/Rome
BEGIN:VEVENT
SUMMARY:Why Do Consumers Use ‘Outgroup Language’ with AI Assistants 
 – and Why Does it Matter? Seminario del Martedì 28 Ottobre 2025
DTSTART;TZID=Europe/Rome;VALUE=DATE-TIME:20251028T150000
DTEND;TZID=Europe/Rome;VALUE=DATE-TIME:20251028T160000
DTSTAMP;VALUE=DATE-TIME:20260421T014706Z
UID:30ff8c5354bd47eb81ebbb79ae6e540f@scienzeaziendali.unibo.it
CREATED;VALUE=DATE-TIME:20251015T072722Z
DESCRIPTION:Ann Kronrod - Professoressa alla Università di Lowell-Massach
 usetts (Stati Uniti d'America). Il seminario è riservato al personale del
  Dipartimento di Scienze Aziendali.
LAST-MODIFIED;VALUE=DATE-TIME:20251015T081448Z
URL:https://scienzeaziendali.unibo.it/it/eventi/why-do-consumers-use-outgr
 oup-language-with-ai-assistants-and-why-does-it-matter-seminario-del-marte
 di-28-ottobre-2025
END:VEVENT
BEGIN:VTIMEZONE
TZID:Europe/Rome
X-LIC-LOCATION:Europe/Rome
BEGIN:STANDARD
DTSTART;VALUE=DATE-TIME:20251026T020000
TZNAME:CET
TZOFFSETFROM:+0200
TZOFFSETTO:+0100
END:STANDARD
END:VTIMEZONE
END:VCALENDAR
