BEGIN:VCALENDAR
VERSION:2.0
PRODID:-//Plone.org//NONSGML plone.app.event//EN
X-WR-TIMEZONE:Europe/Rome
BEGIN:VEVENT
SUMMARY:Workshop on bibliometric methods and automated text mining for sys
 tematic literature reviews
DTSTART;TZID=Europe/Rome;VALUE=DATE-TIME:20230601T143000
DTEND;TZID=Europe/Rome;VALUE=DATE-TIME:20230601T163000
DTSTAMP;VALUE=DATE-TIME:20260420T051918Z
UID:8cbf4c0ad4df4de0b6d9fcabab0f71f8@scienzeaziendali.unibo.it
CREATED;VALUE=DATE-TIME:20230530T113414Z
DESCRIPTION:Matteo Montecchi - Professore al King's College di Londra. Que
 sto Laboratorio è riservato agli studenti del 1° e del 2° anno di Dotto
 rato\, oltre che al personale del Dipartimento di Scienze Aziendali.
LAST-MODIFIED;VALUE=DATE-TIME:20230530T145802Z
URL:https://scienzeaziendali.unibo.it/it/eventi/workshop-on-bibliometric-m
 ethods-and-automated-text-mining-for-systematic-literature-reviews
END:VEVENT
BEGIN:VTIMEZONE
TZID:Europe/Rome
X-LIC-LOCATION:Europe/Rome
BEGIN:DAYLIGHT
DTSTART;VALUE=DATE-TIME:20230326T030000
TZNAME:CEST
TZOFFSETFROM:+0100
TZOFFSETTO:+0200
END:DAYLIGHT
END:VTIMEZONE
END:VCALENDAR
